BEGIN:VCALENDAR
VERSION:2.0
PRODID:-//wp-events-plugin.com//7.2.3//EN
TZID:America/Chicago
X-WR-TIMEZONE:America/Chicago
BEGIN:VEVENT
UID:291@teasdale-gill.com
DTSTART;TZID=America/Chicago:20260516T100000
DTEND;TZID=America/Chicago:20260516T183000
DTSTAMP:20260421T220040Z
URL:https://www.teasdale-gill.com/index.php/events/retired-contractor-auct
 ion-antiques-collectibles-skid-steer-lawn-mower-building-materials-van-hou
 sehold-miscellaneous/
SUMMARY:Retired Contractor Auction: Antiques\, Collectibles\, Skid-Steer\, 
 Lawn Mower\, Building Materials\, Van\, Household\, Miscellaneous
DESCRIPTION:[wptabsy] [tab]Details[/tab][tab]Photos #1[/tab][tab]Photos #2[
 /tab][tab]Photos #3[/tab] [tabcontent]\nNOTE: If you do not see the Photo 
 Gallery Tabs just above this notice\, you will need to use the "Mobile Men
 u" to access the Photo Galleries. (depending on your screen size).\nWayne 
 Fellenzer &amp\; Sons Retired Contractor Auction\nDIRECTIONS: From Hwy. 20
  W\, turn on Franklin St. by Apple River Bank Bldg. &amp\; Veterinary clin
 ic follow to Division then follow east to site.  Or from Stagecoach Rd\, 
 east edge of Galena turn west on Division St. follow to site. \n\nLUNCH: 
 by SUSIE\nTri State Porta Potty\nSelling in 2 rings.\nPlease bring a biddi
 ng partner!\nANTIQUES/COLLECTIBLES: VHS Tapes\;  Cassettes\;  Ass’t. 
 Baseball Caps\;  Books/Encyclopedias\;  Games\;  Anniversary &amp\; Wil
 dlife Clocks\;  Darth Vader  &amp\; Ass’t. Halloween Costumes\;  Ass
 ’t. Toys\;  Campbell’s Soup Tureen &amp\; Mugs\;  Sq. Galv. Wash Tub
 \;  Flat Topped Trunk\;  Beam Decanters\;  Lg. Antique Store Counter\;
   Maytag Wringer Washer\n\nSKID STEER: Case Uni Loader Diesel Skid Steer
  #1840 w/Bucket + Skid Fork Lift\n\nLAWN MOWER &amp\; EQ.: J.D. X734 Lawn
  Mower\, w/4 Wheel Steer\, 60” Deck\; Ass’t. Lawn &amp\; Garden Eq. &a
 mp\; Tools\;  Green Thumb Poly Garden wagon\;  (2) Chain Saws-“Eager B
 eaver” &amp\; “Poulan”\;  Craftsman Leaf Blower\;  Ass’t. Plante
 rs\;  Toro Snowblowers\;  Patio Umbrella\;  Metal Fire Pits\;  Chipper
 /Shredder 8 HP\;  Log Splitter\;  Lawn Chairs\;  Folding Picnic Table\;
   Wheel Barrows\;  Garden Hoses\;  Pole Saws\;  Mole Traps\;  (3) Til
 lers\;  Ass’t. Lawn Ornaments  \n\nBUILDING MATERIALS: Lg. Amt. Ass
 ’t. Hardware\;  Moving Quilts\;  Metal Saw Horses\;  New Caulking Tub
 es\;  Ass’t Oak Cabinetry\;  Ceiling Fans\;  Industrial Lights\;  Wo
 rk Lights\;  Lg. Clamps\;  Track Lights\;  Lt. Amt. Electrical Supplies
 \;  Spools of Elec. Wire\;  Cement Mixer\;  Ass’t. Doors\, Lumber\, I
 nsulation\;  Galv. Pipe Ass’t. Lengths\; Scaffolding \;  Gutters &amp\
 ; Downspouts  \n\nTOOLS/EQ.: Power Hoist\; Rotary Tool Kit\;  DeWalt Sho
 p Vac\;  Lg. Shop Vac\;  2-Step Werner Ladder\;  Cosco 2-Step Painting 
 Ladder\;   SEVERAL Step Ladders &amp\; Ladders-Werner\, Ass’t. Sizes\;
   Several Alum. Ext. Ladders\;   Lincoln Arc Elec. Welder\;  Appliance 
 Cart\;  Floor Jacks\;  Several Bottle Jacks\;  Several Ext. Cords\;  C
 hicago Elect. Power Winch\;  Table Saws (Craftsman 10” &amp\; Older 10
 ”)\;  Craftsman 8” Table Saw\;  Tool Boxes\;  Metal Pick-up Tool Bo
 xes\;  Lg. Ass’t Hand Tools\, Wrenches\, Pliers\, Vice Grips\;  Crafts
 man Oscillating Spindle Sander\;  Tool Aprons\;  Several Power Tools\; 
  Planer/Molder\;  Belt Sander\;  Receiver Hitches\;  Socket Sets\;  Zi
 p Ties\;  Vises\;  Parts Bin\;  Bolt Cutters\;  Tool Cabinets - FULL!
   Hardware Cabinets - FULL! Wrecking Bars\;  Lg. Craftsman Socket Set\;
   Drill Bits\;  Pneumatic Wrench\;  Lg. Ass’t\, DeWalt &amp\; Makita 
 Cordless Tools\; Garage Creep\;  Acetylene Torch &amp\; Supplies\;  Log 
 Chains\;  Air Compressor-5 Gal. 60 HP\;  14” Ryobi Chop Saw\;  Crafts
 man Band Saw\;  Cement Saw\;  Pneumatic Nail Guns\;  Staple Guns\;  Dr
 ill Press  \n\nVAN: Chevrolet Astro Van (not currently running ) w/6’ 
 Blade\n\nHOUSEHOLD: Computer Desk &amp\; Office Chair\;  Cocktail Table\
 ;  (2) Uphl. Occasional Chairs\;  Floral Sofa\;  Ass’t. Linens\;  As
 s’t. Stemware Glasses\;  B &amp\; D Seal-a-Meal\;  Ass’t. Sm. Kitche
 n appliances\;  Corelle Dish Set\;  Misc. Dishes\;  Ass’t. Vacuum Cle
 aners\;  Luggage\; Fireplace Tools\;  Box Fans\;  Canning Jars\;  Bask
 ets &amp\; Home Decor\;  Poly Trash Cans\;  Ironing Bds.\;  Ass’t. Us
 ed Appliances\;  Tables &amp\; Chairs\;  Christmas Lawn Deer\;  Singer 
 Sewing Machine\n\nMISCELLANEOUS: Reefer Trailer for Storage\; (2) Men’s 
 Bikes\; Optical &amp\; Sport Magnifier\;  Projection Screen\;  HD Sound 
 Bar\;  Zenith Stereo\;  Bowling Balls &amp\; Accessories\; Lg. Amt. Golf
  Balls\;  Golf Clubs\;   Skiis\;  Fishing Poles &amp\; Eq.\;  Lg. Amt.
  Cleaning products &amp\; Supplies\;  Lg. Amt. Alum. Foil &amp\; Waxed Pa
 per etc.\;  Coleman Camp Stove\;  Several Coolers\;   Coat Hangers\;  
 Lg\, Amt. Painting Supplies\;  Safety Harness\;  Driveway Reflectors\; 
  Live Trap\;  Schumacher Starter Battery Charger 10-40 Amp\;  Car Ramps\
 ;  West Bend Alum. Can Crusher\;  (4) Flat bed trailers\;  A’SST. SCR
 AP METAL\nPLUS MANY MANY MORE ITEMS TOO NUMEROUS TO MENTION! \n\n\nTERMS:
  Cash\, Check. Credit Card w/4.0% convenience fee. Positive I.D. require
 d. If applicable\, Wis. sales tax 5.5% will be charged. All items must be 
 settled for and removed day of sale or make arrangements. Not responsible 
 for accidents or items after sold. Any announcements sale day take precede
 nce over all printed material.\n\nREGISTERED WISCONSIN &amp\; ILLINOIS AUC
 TIONEERS:\nLarry L. Teasdale\, Shullsburg\, WI\; 608-965-3558 IL. #441.000
 224\, WI #172\nRandal J. Gill\, Shullsburg\, WI\; 608-965-3632\, IL. #441.
 000226 WI\, #171\n\n[/tabcontent]\n[tabcontent]\n\n[gallery columns="4" id
 s="23685\,23686\,23687\,23688\,23689\,23690\,23691\,23692\,23693\,23694\,2
 3695\,23696\,23697\,23698\,23699\,23700\,23701\,23702\,23703\,23704\,23705
 \,23706\,23707\,23708\,23709\,23710\,23711\,23712\,23713\,23714\,23715\,23
 716\,23717\,23718\,23719\,23720\,23721\,23722\,23723\,23724\,23725\,23726\
 ,23727\,23728"]\n\n[/tabcontent]\n[tabcontent]\n\n[gallery columns="4" ids
 ="23729\,23730\,23731\,23732\,23733\,23734\,23735\,23736\,23737\,23738\,23
 739\,23740\,23741\,23742\,23743\,23744\,23745\,23746\,23747\,23748\,23749\
 ,23750\,23751\,23752\,23753\,23754\,23755\,23756\,23757\,23758\,23759\,237
 60\,23761\,23762\,23763\,23764\,23765\,23766\,23767\,23768\,23769\,23770\,
 23771"]\n\n[/tabcontent]\n[tabcontent]\n\n[gallery columns="4" ids="23772\
 ,23773\,23774\,23775\,23776\,23777\,23778\,23779\,23780\,23781\,23782\,237
 83\,23784\,23785\,23786\,23787\,23788\,23789\,23790\,23791\,23792\,23793\,
 23794\,23795\,23796\,23797\,23798\,23799\,23800\,23801\,23802\,23803\,2380
 4\,23805\,23806\,23807\,23808\,23809\,23810\,23811\,23812\,23813\,23814\,2
 3815\,23816\,23817"]\n\n[/tabcontent][[/wptabsy]
ATTACH;FMTTYPE=image/jpeg:https://i0.wp.com/www.teasdale-gill.com/cms/wp-c
 ontent/uploads/2026/04/Fellenzer__Sons_Auction-062.jpg?fit=600%2C800&ssl=1
CATEGORIES:Antiques,Building Materials,Collectibles,Household,Lawn &amp;
 Garden,Lawn Mowers,Primitives,Skid Loader,Tools/Shop Equipment,Van
LOCATION:Fellenzer Residence\, 1003 N. Division St.\, Galena\, IL\, 61036\,
  IL\, United States
GEO:42.425116;-90.426294
X-APPLE-STRUCTURED-LOCATION;VALUE=URI;X-ADDRESS=1003 N. Division St.\, Gale
 na\, IL\, 61036\, IL\, United States;X-APPLE-RADIUS=100;X-TITLE=Fellenzer 
 Residence:geo:42.425116,-90.426294
END:VEVENT
BEGIN:VTIMEZONE
TZID:America/Chicago
X-LIC-LOCATION:America/Chicago
BEGIN:DAYLIGHT
DTSTART:20260308T030000
TZOFFSETFROM:-0600
TZOFFSETTO:-0500
TZNAME:CDT
END:DAYLIGHT
END:VTIMEZONE
END:VCALENDAR